BEGIN:VCALENDAR
VERSION:2.0
PRODID:-//hacksw/handcal//NONSGML v1.0//EN
CALSCALE:GREGORIAN
BEGIN:VEVENT
SUMMARY:WRMS: IF NEEDED -  FALCON FOOTBALL CAMP
DTSTART:20260626T130000Z
STATUS:CONFIRMED
UID:0ukcttit0goephtm4p80m6suf4@google.com
DTSTAMP:20260421T111356Z
LOCATION:Washburn Rural Middle School Football field
DTEND:20260626T153000Z
DESCRIPTION:This is for <b><i>INCOMING 7th &amp\; 8th Graders</i></b> to<i><b><u> WRMS. </u></b></i><br><i><b>COST: $60</b></i><br><i><b>** Monday\, June 22nd-Thursday\, June 25th</b></i><br>(Friday\, June 26th will be a make up day if needed)<br><br>Please Sign into<b><i> Remind app</i></b> using following<b><i> code </i></b>to receive reminder and communicate any changes.<br><br>Text:   @wrfalconfb to 81010<br><a href="https://www.google.com/url?q=https://www.remind.com/join/wrfalconfb&amp\;sa=D&amp\;source=calendar&amp\;ust=1777131871987964&amp\;usg=AOvVaw0Ru4GHHwcmdbL71FarfpOW" target="_blank">https://www.remind.com/join/wrfalconfb</a>
END:VEVENT
END:VCALENDAR