BEGIN:VCALENDAR
VERSION:2.0
PRODID:-//hacksw/handcal//NONSGML v1.0//EN
CALSCALE:GREGORIAN
BEGIN:VEVENT
SUMMARY:PSAT - D/T 
DTSTART;VALUE=DATE:20261012
STATUS:CONFIRMED
UID:7kevc6g0n6uqdkv51l9407saos@google.com
DTSTAMP:20260420T102618Z
LOCATION:Washburn Rural High School\, 5900 SW 61st St\, Topeka\, KS 66619\, USA
DTEND;VALUE=DATE:20261014
END:VEVENT
END:VCALENDAR