BEGIN:VCALENDAR
VERSION:2.0
PRODID:-//hacksw/handcal//NONSGML v1.0//EN
CALSCALE:GREGORIAN
BEGIN:VEVENT
SUMMARY:8th Grade Parent Pre-Enrollment Meeting 
DTSTART:20270225T000000Z
STATUS:CONFIRMED
UID:7fe2nccva80in1jfpc86kgq1ol@google.com
DTSTAMP:20260420T172823Z
LOCATION:Washburn Rural High School\, 5900 SW 61st St\, Topeka\, KS 66619\, USA\, Washburn Rural High School-1-WRHS Auditorium (800)
DTEND:20270225T010000Z
END:VEVENT
END:VCALENDAR