BEGIN:VCALENDAR
VERSION:2.0
PRODID:-//hacksw/handcal//NONSGML v1.0//EN
CALSCALE:GREGORIAN
BEGIN:VEVENT
SUMMARY:Winter Sports Game
DTSTART:20270205T223000Z
STATUS:CONFIRMED
UID:7cicl01bqlgccp5nocrejqime7@google.com
DTSTAMP:20260420T172823Z
DTEND:20270206T030000Z
END:VEVENT
END:VCALENDAR