BEGIN:VCALENDAR
VERSION:2.0
PRODID:-//hacksw/handcal//NONSGML v1.0//EN
CALSCALE:GREGORIAN
BEGIN:VEVENT
SUMMARY:Junior Enrollment (D/T)
DTSTART;VALUE=DATE:20270211
STATUS:CONFIRMED
UID:74nk0v3j387njc6ekud6fbjvvv@google.com
DTSTAMP:20260420T172821Z
LOCATION:Washburn Rural High School\, 5900 SW 61st St\, Topeka\, KS 66619\, USA
DTEND;VALUE=DATE:20270212
DESCRIPTION:JR Enrollment during English Classes
END:VEVENT
END:VCALENDAR