BEGIN:VCALENDAR
VERSION:2.0
PRODID:-//hacksw/handcal//NONSGML v1.0//EN
CALSCALE:GREGORIAN
BEGIN:VEVENT
SUMMARY:Sophomore Enrollment (D/T)
DTSTART;VALUE=DATE:20270212
STATUS:CONFIRMED
UID:6nnip384djvs6spgookr0466nf@google.com
DTSTAMP:20260420T172821Z
DTEND;VALUE=DATE:20270213
DESCRIPTION:Sophomore Enrollment during English Classes
END:VEVENT
END:VCALENDAR