BEGIN:VCALENDAR
VERSION:2.0
PRODID:-//hacksw/handcal//NONSGML v1.0//EN
CALSCALE:GREGORIAN
BEGIN:VEVENT
SUMMARY:Dancin Blues Tryouts
DTSTART:20270331T200000Z
STATUS:CONFIRMED
UID:5u7tlfel9cstuce3ocvqur3243@google.com
DTSTAMP:20260420T190344Z
LOCATION:GYM A 
DTEND:20270331T223000Z
END:VEVENT
END:VCALENDAR