BEGIN:VCALENDAR
VERSION:2.0
PRODID:-//hacksw/handcal//NONSGML v1.0//EN
CALSCALE:GREGORIAN
BEGIN:VEVENT
SUMMARY:PROM
DTSTART:20270411T000000Z
STATUS:CONFIRMED
UID:5sjpsln62t9d4ho3666k0ueg7i@google.com
DTSTAMP:20260420T203307Z
DTEND:20270411T040000Z
END:VEVENT
END:VCALENDAR