BEGIN:VCALENDAR
VERSION:2.0
PRODID:-//hacksw/handcal//NONSGML v1.0//EN
CALSCALE:GREGORIAN
BEGIN:VEVENT
SUMMARY:Dancin Blues Banquet 
DTSTART:20270310T000000Z
STATUS:CONFIRMED
UID:5q6oeoeplu7pdjjmr1kgdfgl7d@google.com
DTSTAMP:20260420T190343Z
LOCATION:Washburn Rural High School-1-WRHS Student Cafeteria (700)
DTEND:20270310T020000Z
END:VEVENT
END:VCALENDAR