BEGIN:VCALENDAR
VERSION:2.0
PRODID:-//hacksw/handcal//NONSGML v1.0//EN
CALSCALE:GREGORIAN
BEGIN:VEVENT
SUMMARY:Dancin Blues Tryout Meeting 
DTSTART:20270323T230000Z
STATUS:CONFIRMED
UID:57r41o8ek4273ub78aqigsm7s4@google.com
DTSTAMP:20260420T190346Z
LOCATION:Washburn Rural High School-1-WRHS Library (150)
DTEND:20270324T000000Z
END:VEVENT
END:VCALENDAR