BEGIN:VCALENDAR
VERSION:2.0
PRODID:-//hacksw/handcal//NONSGML v1.0//EN
CALSCALE:GREGORIAN
BEGIN:VEVENT
SUMMARY:Winter Sports Dance 
DTSTART:20270207T020000Z
STATUS:CONFIRMED
UID:4vip7nc2skv2ecn5evf9blp6k2@google.com
DTSTAMP:20260420T172824Z
DTEND:20270207T050000Z
END:VEVENT
END:VCALENDAR