BEGIN:VCALENDAR
VERSION:2.0
PRODID:-//hacksw/handcal//NONSGML v1.0//EN
CALSCALE:GREGORIAN
BEGIN:VEVENT
SUMMARY:IB/AP Parent Meeting (D/T)
DTSTART:20270203T223000Z
STATUS:CONFIRMED
UID:4mvqlgvd6d7lggfnoser0d55p7@google.com
DTSTAMP:20260420T172822Z
LOCATION:Washburn Rural High School\, 5900 SW 61st St\, Topeka\, KS 66619\, USA
DTEND:20270204T023000Z
END:VEVENT
END:VCALENDAR