BEGIN:VCALENDAR
VERSION:2.0
PRODID:-//hacksw/handcal//NONSGML v1.0//EN
CALSCALE:GREGORIAN
BEGIN:VEVENT
SUMMARY:Freshman Enrollment (D/T)
DTSTART;VALUE=DATE:20270215
STATUS:CONFIRMED
UID:4jtcrjoaof03mq00b5cdsd3av9@google.com
DTSTAMP:20260420T172822Z
LOCATION:Washburn Rural High School\, 5900 SW 61st St\, Topeka\, KS 66619\, USA
DTEND;VALUE=DATE:20270216
DESCRIPTION:Freshman Enrollment during English Classes
END:VEVENT
END:VCALENDAR