BEGIN:VCALENDAR
VERSION:2.0
PRODID:-//hacksw/handcal//NONSGML v1.0//EN
CALSCALE:GREGORIAN
BEGIN:VEVENT
SUMMARY:ACT @ WRHS 
DTSTART:20261017T050000Z
STATUS:CONFIRMED
UID:42tv6ilm66ai30hrpeelt21tba@google.com
DTSTAMP:20260420T102502Z
LOCATION:Washburn Rural High School\, 5900 SW 61st St\, Topeka\, KS 66619\, USA\, Washburn Rural High School-1-WRHS Library (150)
DTEND:20261018T050000Z
END:VEVENT
END:VCALENDAR