BEGIN:VCALENDAR
VERSION:2.0
PRODID:-//hacksw/handcal//NONSGML v1.0//EN
CALSCALE:GREGORIAN
BEGIN:VEVENT
SUMMARY:ACT @ WRHS
DTSTART:20270612T050000Z
STATUS:CONFIRMED
UID:16pqo5cbfke6ed8e3q9r38gkck@google.com
DTSTAMP:20260420T233705Z
LOCATION:Washburn Rural High School\, 5900 SW 61st St\, Topeka\, KS 66619\, USA\, Washburn Rural High School-1-WRHS Library (150)
DTEND:20270613T050000Z
END:VEVENT
END:VCALENDAR