BEGIN:VCALENDAR
VERSION:2.0
PRODID:-//hacksw/handcal//NONSGML v1.0//EN
CALSCALE:GREGORIAN
BEGIN:VEVENT
SUMMARY:Picture Re-Takes
DTSTART:20261019T153000Z
STATUS:CONFIRMED
UID:05rvsgeqhuoffbmaffpqfj7uqq@google.com
DTSTAMP:20260420T102502Z
LOCATION:Commons 
DTEND:20261019T161500Z
END:VEVENT
END:VCALENDAR