BEGIN:VCALENDAR
VERSION:2.0
PRODID:-//hacksw/handcal//NONSGML v1.0//EN
CALSCALE:GREGORIAN
BEGIN:VEVENT
SUMMARY:Bus Driver Appreciation Day
DTSTART;VALUE=DATE:20310220
STATUS:CONFIRMED
UID:csppqncqv2m7enemrh3u10otdt@google.com
DTSTAMP:20260422T172354Z
DTEND;VALUE=DATE:20310221
END:VEVENT
END:VCALENDAR