BEGIN:VCALENDAR
VERSION:2.0
PRODID:-//hacksw/handcal//NONSGML v1.0//EN
CALSCALE:GREGORIAN
BEGIN:VEVENT
SUMMARY:Lunchroom Appreciation Day
DTSTART;VALUE=DATE:20280501
STATUS:CONFIRMED
UID:7tas8ivkjgjcj2kujfmd39fiv4@google.com
DTSTAMP:20260420T121304Z
DTEND;VALUE=DATE:20280502
END:VEVENT
END:VCALENDAR