BEGIN:VCALENDAR
VERSION:2.0
PRODID:-//hacksw/handcal//NONSGML v1.0//EN
CALSCALE:GREGORIAN
BEGIN:VEVENT
SUMMARY:Mental Health Team Appreciation Week
DTSTART;VALUE=DATE:20290202
STATUS:CONFIRMED
UID:1vf1f5p38b2epvcecca1jo2smc@google.com
DTSTAMP:20260421T033146Z
DTEND;VALUE=DATE:20290207
END:VEVENT
END:VCALENDAR