BEGIN:VCALENDAR
VERSION:2.0
PRODID:-//hacksw/handcal//NONSGML v1.0//EN
CALSCALE:GREGORIAN
BEGIN:VEVENT
SUMMARY:AE Kindergarten Music Program
DTSTART:20261211T000000Z
STATUS:CONFIRMED
UID:7ho9mjc5p3ulgpus4jphkd552q@google.com
DTSTAMP:20260420T134121Z
DTEND:20261211T003000Z
END:VEVENT
END:VCALENDAR