BEGIN:VCALENDAR
VERSION:2.0
PRODID:-//hacksw/handcal//NONSGML v1.0//EN
CALSCALE:GREGORIAN
BEGIN:VEVENT
SUMMARY:AE 5th grade Music Program
DTSTART:20261211T010000Z
STATUS:CONFIRMED
UID:5tsbllgibjkrsdnotd5euebku5@google.com
DTSTAMP:20260420T134721Z
DTEND:20261211T014500Z
END:VEVENT
END:VCALENDAR