BEGIN:VCALENDAR
VERSION:2.0
PRODID:-//hacksw/handcal//NONSGML v1.0//EN
CALSCALE:GREGORIAN
BEGIN:VEVENT
SUMMARY:AE 2nd and 3rd grade combined Music Program
DTSTART:20270422T230000Z
STATUS:CONFIRMED
UID:1po300l3bpndgr3q4aralv2veh@google.com
DTSTAMP:20260420T203307Z
DTEND:20270423T000000Z
END:VEVENT
END:VCALENDAR