BEGIN:VCALENDAR
VERSION:2.0
PRODID:-//hacksw/handcal//NONSGML v1.0//EN
CALSCALE:GREGORIAN
BEGIN:VEVENT
SUMMARY:AE 1st grade Music Program
DTSTART:20270304T000000Z
STATUS:CONFIRMED
UID:0lv3m7hnteeiq30rt9ps0410le@google.com
DTSTAMP:20260420T190345Z
DTEND:20270304T003000Z
END:VEVENT
END:VCALENDAR