BEGIN:VCALENDAR
VERSION:2.0
PRODID:-//hacksw/handcal//NONSGML v1.0//EN
CALSCALE:GREGORIAN
BEGIN:VEVENT
SUMMARY:AE 4th grade Music Program
DTSTART:20270304T010000Z
STATUS:CONFIRMED
UID:062e5ev38bvh1c3cg5h3m0hu37@google.com
DTSTAMP:20260420T190345Z
DTEND:20270304T014500Z
END:VEVENT
END:VCALENDAR